BEGIN:VCALENDAR
PRODID:-//github.com/rianjs/ical.net//NONSGML ical.net 4.0//EN
VERSION:2.0
BEGIN:VEVENT
DESCRIPTION:Details:\nhttps://bbyo.org/bbyo-near-you/regions/pacific-weste
 rn-region/aids-walk-los-angeles
DTEND:20161023T120000
DTSTAMP:20260422T034641Z
DTSTART:20161023T090000
LOCATION:Grand Park
SEQUENCE:0
SUMMARY:AIDS Walk Los Angeles
UID:efe06fff-fe8a-4c8a-adf0-71dc980ef47e
END:VEVENT
END:VCALENDAR
