BEGIN:VCALENDAR
PRODID:-//github.com/rianjs/ical.net//NONSGML ical.net 4.0//EN
VERSION:2.0
BEGIN:VEVENT
DESCRIPTION:Details:\nhttps://bbyo.org/bbyo-near-you/regions/hudson-valley
 -region/regional-lti\n\nSummary:\nJoin together for a day of learning and
  planning as we get ready for the second half of our year! This event is 
 mandatory for teens who currently hold Chapter and Regional Board positio
 ns.
DTEND:20200126T140000
DTSTAMP:20260425T194121Z
DTSTART:20200126T100000
LOCATION:Harrison New York
SEQUENCE:0
SUMMARY:Regional LTI
UID:ade8904a-c64b-447d-a500-42435ae7dc3a
END:VEVENT
END:VCALENDAR
