BEGIN:VCALENDAR
PRODID:-//github.com/rianjs/ical.net//NONSGML ical.net 4.0//EN
VERSION:2.0
BEGIN:VEVENT
DESCRIPTION:Details:\nhttps://bbyo.org/bbyo-near-you/regions/northern-regi
 on-east-dc-council/melech-aza-s-among-us-tournament\n\nSummary:\nJoin us 
 for Melech AZA's Fall Fest Among Us tournament! Make sure to register in 
 advance and download the game on your phone in advance of the program.
DTEND:20201121T200000
DTSTAMP:20260421T154410Z
DTSTART:20201121T190000
LOCATION:
SEQUENCE:0
SUMMARY:Melech AZA Among Us Tournament
UID:a50d46f1-1c4a-4ec2-9ad1-0f6c22923430
END:VEVENT
END:VCALENDAR
