BEGIN:VCALENDAR
PRODID:-//github.com/rianjs/ical.net//NONSGML ical.net 4.0//EN
VERSION:2.0
BEGIN:VEVENT
DESCRIPTION:Details:\nhttps://bbyo.org/bbyo-near-you/regions/ohio-northern
 -region/hatikvah-the-breakfast-club-night
DTEND:20221026T200000
DTSTAMP:20260422T221811Z
DTSTART:20221026T173000
LOCATION:Solon Ohio
SEQUENCE:0
SUMMARY:Hatikvah The Breakfast Club Night
UID:1c8b6719-2289-43fc-9567-938f78f68437
END:VEVENT
END:VCALENDAR
