BEGIN:VCALENDAR
PRODID:-//github.com/rianjs/ical.net//NONSGML ical.net 4.0//EN
VERSION:2.0
BEGIN:VEVENT
DESCRIPTION:Details:\nhttps://bbyo.org/bbyo-near-you/regions/miami-region/
 regional-board-retreat\n\nSummary:\n2015-16 Regional Board Retreat. This 
 event is only open to current R-board members.
DTEND:20150819T150000
DTSTAMP:20260424T040758Z
DTSTART:20150818T154500
LOCATION:Mathieson Hammock Park
SEQUENCE:0
SUMMARY:Regional Board Retreat
UID:0fb29819-7ec0-4541-8f13-b142c9f0b4cb
END:VEVENT
END:VCALENDAR
