BEGIN:VCALENDAR
PRODID:-//github.com/rianjs/ical.net//NONSGML ical.net 4.0//EN
VERSION:2.0
BEGIN:VEVENT
DESCRIPTION:Details:\nhttps://bbyo.org/bbyo-near-you/regions/south-jersey-
 region/pink-white-gala-for-breast-cancer\n\nSummary:\nThe Pink & White Ga
 la will be a wonderful night including an auction\, live band\, and a fab
 ulous dinner.  All of the proceeds of the night will be split evenly betw
 een the Susan G. Koman Brea
DTEND;VALUE=DATE:20061028
DTSTAMP:20260422T113655Z
DTSTART;VALUE=DATE:20061028
LOCATION:Vitarelli's
SEQUENCE:0
SUMMARY:Pink & White Gala for Breast Cancer
UID:bc7025f9-e3fb-48fd-be11-96b813058e26
END:VEVENT
END:VCALENDAR
