BEGIN:VCALENDAR
PRODID:-//github.com/rianjs/ical.net//NONSGML ical.net 4.0//EN
VERSION:2.0
BEGIN:VEVENT
DESCRIPTION:Details:\nhttps://bbyo.org/bbyo-near-you/regions/rocky-mountai
 n-region/rosh-chodesh-club-1\n\nSummary:\nHear Shaul Amir from the Allied
  Jewish Federation speak about current conditions in Israel and how we ca
 n get more involved locally!
DTEND:20060831T180000
DTSTAMP:20260420T120244Z
DTSTART:20060831T170000
LOCATION:Jewish Teen Center
SEQUENCE:0
SUMMARY:Rosh Chodesh Club #1
UID:e6601fc0-7335-4490-af31-08698fa9778d
END:VEVENT
END:VCALENDAR
