BEGIN:VCALENDAR
PRODID:-//github.com/rianjs/ical.net//NONSGML ical.net 4.0//EN
VERSION:2.0
BEGIN:VEVENT
DESCRIPTION:Details:\nhttps://bbyo.org/bbyo-near-you/regions/north-texas-o
 klahoma-region/fall-convention-steering-meeting-4
DTEND:20211010T150000
DTSTAMP:20260422T221743Z
DTSTART:20211010T130000
LOCATION:Aliyah's House
SEQUENCE:0
SUMMARY:Fall Convention Steering Meeting 4
UID:99bfc294-d757-45f8-9d53-46f8ff04dc4b
END:VEVENT
END:VCALENDAR
