BEGIN:VCALENDAR
PRODID:-//github.com/rianjs/ical.net//NONSGML ical.net 4.0//EN
VERSION:2.0
BEGIN:VEVENT
DESCRIPTION:Details:\nhttps://bbyo.org/bbyo-near-you/regions/delta-region/
 delta-regional-board-retreat
DTEND:20210905T120000
DTSTAMP:20260425T235514Z
DTSTART:20210903T190000
LOCATION:Gordon JCC
SEQUENCE:0
SUMMARY:Delta Regional Board Retreat
UID:d7f9d3fb-9033-4652-93b5-9cf978e8741d
END:VEVENT
END:VCALENDAR
