BEGIN:VCALENDAR
PRODID:-//github.com/rianjs/ical.net//NONSGML ical.net 4.0//EN
VERSION:2.0
BEGIN:VEVENT
DESCRIPTION:Details:\nhttps://bbyo.org/bbyo-near-you/regions/north-texas-o
 klahoma-region/sganim-meeting
DTEND:20221003T163000
DTSTAMP:20260419T122838Z
DTSTART:20221002T153000
LOCATION:
SEQUENCE:0
SUMMARY:sganim meeting
UID:cf1a2a11-270e-44bf-9556-c5fd2551166a
END:VEVENT
END:VCALENDAR
