BEGIN:VCALENDAR
PRODID:-//github.com/rianjs/ical.net//NONSGML ical.net 4.0//EN
VERSION:2.0
BEGIN:VEVENT
DESCRIPTION:Details:\nhttps://bbyo.org/bbyo-near-you/regions/rocky-mountai
 n-region/rmr-rbtw-2018\n\nSummary:\nWelcome RB 63/64! So excited to start
  the year off with this weekend of training. Full agenda and any pre-RBTW
  assignments will be sent out shortly.
DTEND:20180603T120000
DTSTAMP:20260423T133539Z
DTSTART;VALUE=DATE:20180601
LOCATION:
SEQUENCE:0
SUMMARY:RMR RBTW 2018
UID:e6154a3f-5a32-40bd-9878-8d8f4fddf908
END:VEVENT
END:VCALENDAR
