BEGIN:VCALENDAR
PRODID:-//github.com/rianjs/ical.net//NONSGML ical.net 4.0//EN
VERSION:2.0
BEGIN:VEVENT
DESCRIPTION:Details:\nhttps://bbyo.org/bbyo-near-you/regions/mid-america-r
 egion-kansas-city-council/mar-and-kio-convention-2015-(pc3040)\n\nSummary
 :\nBBYO Members 9-12th grade are invited to the first ever Mid America an
 d Kentucky\, Indiana\, Ohio\, Convention!  \n\nThis convention is to:\nMe
 et new friends\nLearn from each other \nStrengthen
DTEND:20151011T100000
DTSTAMP:20260423T002002Z
DTSTART:20151009T170000
LOCATION:Lake Williamson
SEQUENCE:0
SUMMARY:MAR and KIO Convention 2015 (PC3040)
UID:424adc2a-88dd-4e7d-8740-b35d031b2baf
END:VEVENT
END:VCALENDAR
