BEGIN:VCALENDAR
PRODID:-//github.com/rianjs/ical.net//NONSGML ical.net 4.0//EN
VERSION:2.0
BEGIN:VEVENT
DESCRIPTION:Details:\nhttps://bbyo.org/bbyo-near-you/regions/mid-america-r
 egion-kansas-city-council/mar-kc-voice-your-vote
DTEND;VALUE=DATE:20161108
DTSTAMP:20260421T163617Z
DTSTART;VALUE=DATE:20161108
LOCATION:
SEQUENCE:0
SUMMARY:MAR: KC Voice Your Vote
UID:6d15c848-6425-4de6-acfc-04ca08d176a9
END:VEVENT
END:VCALENDAR
