BEGIN:VCALENDAR
PRODID:-//github.com/rianjs/ical.net//NONSGML ical.net 4.0//EN
VERSION:2.0
BEGIN:VEVENT
DESCRIPTION:Details:\nhttps://bbyo.org/bbyo-near-you/regions/mid-america-r
 egion-kansas-city-council/leadership-training-institute-2005-kc\n\nSummar
 y:\nFocus on leadership training and leadership skills.
DTEND:20051120T110000
DTSTAMP:20260419T145909Z
DTSTART:20051118T170000
LOCATION:Intrigue Park Place Hotel
SEQUENCE:0
SUMMARY:Leadership Training Institute 2005 - KC
UID:8be68602-a735-4876-9c1d-372962810bb7
END:VEVENT
END:VCALENDAR
