BEGIN:VCALENDAR
PRODID:-//github.com/rianjs/ical.net//NONSGML ical.net 4.0//EN
VERSION:2.0
BEGIN:VEVENT
DESCRIPTION:Details:\nhttps://bbyo.org/bbyo-near-you/regions/greater-jerse
 y-region/yltc-session-2\n\nSummary:\nSession 2 of YLTC
DTEND:20160131T163000
DTSTAMP:20260423T015601Z
DTSTART:20160131T143000
LOCATION:BBYO Office
SEQUENCE:0
SUMMARY:YLTC session 2
UID:3490fa1d-33e3-40f9-8481-931655abeb64
END:VEVENT
END:VCALENDAR
