BEGIN:VCALENDAR
PRODID:-//github.com/rianjs/ical.net//NONSGML ical.net 4.0//EN
VERSION:2.0
BEGIN:VEVENT
DESCRIPTION:Details:\nhttps://bbyo.org/bbyo-near-you/regions/lonestar-regi
 on/azabbg-international-convention-houston-round-trip\n\nSummary:\nRound 
 Trip Bus Transportation to and from International Convention in Dallas
DTEND:20200217T130000
DTSTAMP:20260421T073056Z
DTSTART:20200213T103000
LOCATION:Houston Texas
SEQUENCE:0
SUMMARY:AZABBG International Convention HOUSTON Round Trip Bus
UID:c325d459-4699-420a-b7c4-6fcf29bf4bc6
END:VEVENT
END:VCALENDAR
