BEGIN:VCALENDAR
PRODID:-//github.com/rianjs/ical.net//NONSGML ical.net 4.0//EN
VERSION:2.0
BEGIN:VEVENT
DESCRIPTION:Details:\nhttps://bbyo.org/bbyo-near-you/regions/lake-ontario-
 region/cltc-7-(11)\n\nSummary:\nChapter Leadership Training Conference\, 
 CLTC\, is designed for AZA and BBG members who want to learn how to build
  and strengthen their chapter. At CLTC\, teens have fun with peers from a
 cro
DTEND:20170730T050000
DTSTAMP:20260420T125011Z
DTSTART:20170718T090000
LOCATION:Beber Camp
SEQUENCE:0
SUMMARY:CLTC 7
UID:0df198fd-5be6-4dc6-901e-b3124d189380
END:VEVENT
END:VCALENDAR
