BEGIN:VCALENDAR
PRODID:-//github.com/rianjs/ical.net//NONSGML ical.net 4.0//EN
VERSION:2.0
BEGIN:VEVENT
DESCRIPTION:Details:\nhttps://bbyo.org/bbyo-near-you/regions/south-jersey-
 region/december-bbyo-night\n\nSummary:\nJoin SJR once a month as we gathe
 r at the Katz JCC for a BBYO night. Chapters individually have an hour an
 d then the region has an hour as a whole. Programming varies monthly\, bu
 t BBYO\nnight
DTEND:20181215T210000
DTSTAMP:20260419T213551Z
DTSTART:20181215T190000
LOCATION:Katz JCC
SEQUENCE:0
SUMMARY:December BBYO Night
UID:ac637549-0dd1-4314-b770-ed14e52dc5b4
END:VEVENT
END:VCALENDAR
