BEGIN:VCALENDAR
PRODID:-//github.com/rianjs/ical.net//NONSGML ical.net 4.0//EN
VERSION:2.0
BEGIN:VEVENT
DESCRIPTION:Details:\nhttps://bbyo.org/bbyo-near-you/regions/keystone-moun
 tain-region/kmr-international-convention-swag-pack
DTEND;VALUE=DATE:20220216
DTSTAMP:20260423T195528Z
DTSTART;VALUE=DATE:20220215
LOCATION:International Convention
SEQUENCE:0
SUMMARY:KMR - International Convention Swag Pack
UID:d675e34b-34db-4620-bdda-2cee9ad04f2c
END:VEVENT
END:VCALENDAR
