BEGIN:VCALENDAR
PRODID:-//github.com/rianjs/ical.net//NONSGML ical.net 4.0//EN
VERSION:2.0
BEGIN:VEVENT
DESCRIPTION:Details:\nhttps://bbyo.org/bbyo-near-you/regions/lonestar-regi
 on/sa-bbyo-ic-launch-fundraiser-at-big-z
DTEND:20220922T210000
DTSTAMP:20260419T185741Z
DTSTART:20220922T170000
LOCATION:San Antonio  Texas
SEQUENCE:0
SUMMARY:SA BBYO IC Launch & Fundraiser at Big'z
UID:f3b1f4c7-6406-4112-a9d8-7d780e006287
END:VEVENT
END:VCALENDAR
