BEGIN:VCALENDAR
PRODID:-//github.com/rianjs/ical.net//NONSGML ical.net 4.0//EN
VERSION:2.0
BEGIN:VEVENT
DESCRIPTION:Details:\nhttps://bbyo.org/bbyo-near-you/regions/greater-jerse
 y-region/meetings-(2)
DTEND;VALUE=DATE:20151115
DTSTAMP:20260421T221010Z
DTSTART;VALUE=DATE:20151115
LOCATION:
SEQUENCE:0
SUMMARY:meetings
UID:a3167438-af0b-498d-a3dd-7750ed3ed554
END:VEVENT
END:VCALENDAR
