BEGIN:VCALENDAR
PRODID:-//github.com/rianjs/ical.net//NONSGML ical.net 4.0//EN
VERSION:2.0
BEGIN:VEVENT
DESCRIPTION:Details:\nhttps://bbyo.org/bbyo-near-you/regions/nassau-suffol
 k-region/nsr-kickoff-dance-2015-(pc-5000)\n\nSummary:\nCelebrate the begi
 nning of the new year with a mega event. $30 on-line.  $35 at the door. W
 e will close out at 500 at the door...first come\, first serve.
DTEND:20151011T220000
DTSTAMP:20260419T145929Z
DTSTART:20151011T190000
LOCATION:United Skates of America
SEQUENCE:0
SUMMARY:NSR Kickoff Dance 2015 (PC 5000)
UID:ec64914e-87c0-495f-91f0-b005cc3a3e69
END:VEVENT
END:VCALENDAR
