BEGIN:VCALENDAR
PRODID:-//github.com/rianjs/ical.net//NONSGML ical.net 4.0//EN
VERSION:2.0
BEGIN:VEVENT
DESCRIPTION:Details:\nhttps://bbyo.org/bbyo-near-you/regions/connecticut-v
 alley-region/yachad/yachad-s-shabbat-in-the-park-senior-send-off
DTEND:20240531T200000
DTSTAMP:20260421T080708Z
DTSTART:20240531T180000
LOCATION:Harkness Park
SEQUENCE:0
SUMMARY:Yachad's Shabbat in the Park/Senior Send-off
UID:9d14e756-32e9-462d-b480-4a7bd8646c8c
END:VEVENT
END:VCALENDAR
