BEGIN:VCALENDAR
PRODID:-//github.com/rianjs/ical.net//NONSGML ical.net 4.0//EN
VERSION:2.0
BEGIN:VEVENT
DESCRIPTION:Details:\nhttps://bbyo.org/bbyo-near-you/regions/northern-regi
 on-east-baltimore-council/nretreat-fall-2024-council-board-registration
DTEND:20240908T170000
DTSTAMP:20260421T223738Z
DTSTART:20240906T163000
LOCATION:Edgewater Maryland
SEQUENCE:0
SUMMARY:NREtreat Fall 2024 Council Board Registration
UID:0a2368c5-65b0-4e21-9361-157998e18bed
END:VEVENT
END:VCALENDAR
