BEGIN:VCALENDAR
PRODID:-//github.com/rianjs/ical.net//NONSGML ical.net 4.0//EN
VERSION:2.0
BEGIN:VEVENT
DESCRIPTION:Details:\nhttps://bbyo.org/bbyo-near-you/regions/lonestar-regi
 on/houston-azaa-flag-football-league-spring-2023
DTEND:20230521T173000
DTSTAMP:20260426T030230Z
DTSTART:20230521T150000
LOCATION:Godwin Park
SEQUENCE:0
SUMMARY:Houston AZAA Flag Football League Spring 2023
UID:5b9c903f-3785-45bd-bc9a-4683d431f4db
END:VEVENT
END:VCALENDAR
