BEGIN:VCALENDAR
PRODID:-//github.com/rianjs/ical.net//NONSGML ical.net 4.0//EN
VERSION:2.0
BEGIN:VEVENT
DESCRIPTION:Details:\nhttps://bbyo.org/bbyo-near-you/regions/northern-regi
 on-east-baltimore-council/taste-of-bbyo-baltimore-council-chapter-showcas
 e
DTEND:20240929T170000
DTSTAMP:20260426T030333Z
DTSTART:20240929T150000
LOCATION:Owings Mills Maryland
SEQUENCE:0
SUMMARY:Taste of BBYO: Baltimore Council Chapter Showcase
UID:dcc7bd79-db10-47b4-83a8-cde67722d7bd
END:VEVENT
END:VCALENDAR
