BEGIN:VCALENDAR
PRODID:-//github.com/rianjs/ical.net//NONSGML ical.net 4.0//EN
VERSION:2.0
BEGIN:VEVENT
DESCRIPTION:Details:\nhttps://bbyo.org/bbyo-near-you/regions/mid-america-r
 egion-st-louis-council/st-louis-global-shabbat-2022
DTEND:20221209T200000
DTSTAMP:20260424T213613Z
DTSTART:20221209T180000
LOCATION:Saint Louis Missouri
SEQUENCE:0
SUMMARY:St. Louis Global Shabbat 2022
UID:a53d8de2-66dd-4ada-b798-b1ec5f93b257
END:VEVENT
END:VCALENDAR
