BEGIN:VCALENDAR
PRODID:-//github.com/rianjs/ical.net//NONSGML ical.net 4.0//EN
VERSION:2.0
BEGIN:VEVENT
DESCRIPTION:Details:\nhttps://bbyo.org/bbyo-near-you/regions/montreal-regi
 on/cltc-1-2020\n\nSummary:\nAt Chapter Leadership Training Conference (CL
 TC)\, you'll discover what it means to be a leader and attain lifelong le
 adership skills.You'll also gain greater self-confidence....
DTEND:20200614T090000
DTSTAMP:20260420T132401Z
DTSTART:20200602T120000
LOCATION:Mukwonago Wisconsin
SEQUENCE:0
SUMMARY:CLTC 1
UID:e810769e-de2b-4f1c-bac2-fe9142b3335a
END:VEVENT
END:VCALENDAR
