BEGIN:VCALENDAR
PRODID:-//github.com/rianjs/ical.net//NONSGML ical.net 4.0//EN
VERSION:2.0
BEGIN:VEVENT
DESCRIPTION:Details:\nhttps://bbyo.org/bbyo-near-you/regions/south-jersey-
 region/sjr-bbyo-spring-thing-havdalah
DTEND:20200516T203000
DTSTAMP:20260425T182918Z
DTSTART:20200516T193000
LOCATION:BBYO On Demand - Zoom
SEQUENCE:0
SUMMARY:SJR BBYO Spring Thing Havdalah
UID:ccfa840b-e657-43fa-8949-8f8552ccc739
END:VEVENT
END:VCALENDAR
