BEGIN:VCALENDAR
PRODID:-//github.com/rianjs/ical.net//NONSGML ical.net 4.0//EN
VERSION:2.0
BEGIN:VEVENT
DESCRIPTION:Details:\nhttps://bbyo.org/bbyo-near-you/regions/lonestar-regi
 on/houston-bbyo-annual-white-out-kickoff-party\n\nSummary:\nA night of da
 ncing\, sports\, old friends\, new friends\, plus food from Don Churros!\
 n* Open to all Jewish high school student in the greater Houston area\n* 
 7 pm-8 pm = 9th grade VIP Party (pi
DTEND:20160820T223000
DTSTAMP:20260426T013653Z
DTSTART:20160820T200000
LOCATION:The Zone
SEQUENCE:0
SUMMARY:Houston BBYO Annual White Out Kickoff Party
UID:aaa57480-0309-416d-9ac6-db1c8c9eb7f9
END:VEVENT
END:VCALENDAR
