BEGIN:VCALENDAR
PRODID:-//github.com/rianjs/ical.net//NONSGML ical.net 4.0//EN
VERSION:2.0
BEGIN:VEVENT
DESCRIPTION:Details:\nhttps://bbyo.org/bbyo-near-you/regions/liberty-regio
 n/pre-havdalah-moment-with-liberty-s-regional-board\n\nSummary:\nJoin us 
 for an OPTIONAL socially distanced pre-Havdalah experience with Liberty's
  Regional Board and Staff. \n\nThose who feel comfortable are invited to 
 join us as we socially distance outsid
DTEND:20200912T180000
DTSTAMP:20260419T123007Z
DTSTART:20200912T163000
LOCATION:Outside  - TBD
SEQUENCE:0
SUMMARY:Pre-Havdalah Moment with Liberty's Regional Board
UID:49c4ab7d-36a0-416a-ab8f-b08b51a98bd9
END:VEVENT
END:VCALENDAR
