BEGIN:VCALENDAR
PRODID:-//github.com/rianjs/ical.net//NONSGML ical.net 4.0//EN
VERSION:2.0
BEGIN:VEVENT
DESCRIPTION:Details:\nhttps://bbyo.org/bbyo-near-you/regions/north-texas-o
 klahoma-region/connect-goes-roller-skating!
DTEND:20171015T000100
DTSTAMP:20260424T062455Z
DTSTART;VALUE=DATE:20171015
LOCATION:
SEQUENCE:0
SUMMARY:Connect Goes Roller Skating!
UID:022c9619-38b4-4fcf-8923-0bc323747ad8
END:VEVENT
END:VCALENDAR
