BEGIN:VCALENDAR
PRODID:-//github.com/rianjs/ical.net//NONSGML ical.net 4.0//EN
VERSION:2.0
BEGIN:VEVENT
DESCRIPTION:Details:\nhttps://bbyo.org/bbyo-near-you/regions/ohio-northern
 -region/bbyo-connect-hot-chocolate-movie-party
DTEND:20180121T000100
DTSTAMP:20260419T213551Z
DTSTART;VALUE=DATE:20180121
LOCATION:
SEQUENCE:0
SUMMARY:BBYO Connect Hot Chocolate Movie Party
UID:0edd6bbe-bca8-403e-9e85-68f60d1d6f3b
END:VEVENT
END:VCALENDAR
