BEGIN:VCALENDAR
PRODID:-//github.com/rianjs/ical.net//NONSGML ical.net 4.0//EN
VERSION:2.0
BEGIN:VEVENT
DESCRIPTION:Details:\nhttps://bbyo.org/bbyo-near-you/regions/northern-regi
 on-east-baltimore-council/nre-regional-convention-2022-limited-rooming-pr
 ici\n\nSummary:\nFrom December 9 - December 11 more than 400 teens from a
 cross Northern Region East will gather for Regional Convention 2022 in Ar
 lington\, VA for NRE's spirit Convention!
DTEND:20221211T110000
DTSTAMP:20260421T043226Z
DTSTART:20221209T180000
LOCATION:
SEQUENCE:0
SUMMARY:NRE Regional Convention 2022 - Limited Rooming Pricing
UID:1f02a736-c3ff-4edd-aaab-cb4725e70063
END:VEVENT
END:VCALENDAR
