BEGIN:VCALENDAR
PRODID:-//github.com/rianjs/ical.net//NONSGML ical.net 4.0//EN
VERSION:2.0
BEGIN:VEVENT
DESCRIPTION:Details:\nhttps://bbyo.org/bbyo-near-you/regions/mid-america-r
 egion-omaha-council/omaha-council-ic-launch-party\n\nSummary:\nCome hang 
 at Jordan Raffel's house and celebrate the opening of International Conve
 ntion Registration! Food and a great atmoshpere will be provided. Make su
 re to bring a laptop and a credit
DTEND:20181004T203000
DTSTAMP:20260419T185909Z
DTSTART:20181004T180000
LOCATION:Omaha Nebraska
SEQUENCE:0
SUMMARY:Omaha Council IC Launch Party
UID:023bf33b-956b-40de-9e0a-086e2bf619a9
END:VEVENT
END:VCALENDAR
