BEGIN:VCALENDAR
PRODID:-//github.com/rianjs/ical.net//NONSGML ical.net 4.0//EN
VERSION:2.0
BEGIN:VEVENT
DESCRIPTION:Details:\nhttps://bbyo.org/bbyo-near-you/regions/mid-america-r
 egion-kansas-city-council/new-members-overnight-royals-game\n\nSummary:\n
 New members\, we have an exciting evening just for you! Highlights includ
 e learning about BBYO in Kansas City from our cheers to our history\, enj
 oying s'mores and celebrating Havdallah by a b
DTEND:20160821T170000
DTSTAMP:20260421T083949Z
DTSTART:20160820T163000
LOCATION:Ironwood Cabins
SEQUENCE:0
SUMMARY:New Members Overnight & Royals Game
UID:1568449d-ff5f-4261-9a48-3aeb3d7c4045
END:VEVENT
END:VCALENDAR
