BEGIN:VCALENDAR
PRODID:-//github.com/rianjs/ical.net//NONSGML ical.net 4.0//EN
VERSION:2.0
BEGIN:VEVENT
DESCRIPTION:Details:\nhttps://bbyo.org/bbyo-near-you/regions/miami-region/
 lti-fall-kickoff\n\nSummary:\nRegister for the day of training (Leadershi
 p Training Institue) & Fall Kickoff and recieve a discount! \n\n\nLeaders
 hip Training Institute \n\nThe day of training will focus on becoming str
 ong le
DTEND:20190922T133000
DTSTAMP:20260423T223706Z
DTSTART:20190825T113000
LOCATION:Beth Moshe Congregation | Top Golf\, Miami Gardens
SEQUENCE:0
SUMMARY:LTI & Fall Kickoff
UID:e1d5bf53-855e-48ec-b30e-38e8bb54ee31
END:VEVENT
END:VCALENDAR
