BEGIN:VCALENDAR
PRODID:-//github.com/rianjs/ical.net//NONSGML ical.net 4.0//EN
VERSION:2.0
BEGIN:VEVENT
DESCRIPTION:Details:\nhttps://bbyo.org/bbyo-near-you/regions/wisconsin-reg
 ion/wi-bbg-froyo-date
DTEND;VALUE=DATE:20151022
DTSTAMP:20260425T182956Z
DTSTART;VALUE=DATE:20151022
LOCATION:
SEQUENCE:0
SUMMARY:WI - BBG FroYo Date
UID:225cd6eb-066e-4710-acf5-84853e98b254
END:VEVENT
END:VCALENDAR
