BEGIN:VCALENDAR
PRODID:-//github.com/rianjs/ical.net//NONSGML ical.net 4.0//EN
VERSION:2.0
BEGIN:VEVENT
DESCRIPTION:Details:\nhttps://bbyo.org/bbyo-near-you/regions/lonestar-regi
 on/lonestar-chapter-awards-ceremony
DTEND:20240127T200000
DTSTAMP:20260419T131224Z
DTSTART:20240127T181500
LOCATION:Houston Texas
SEQUENCE:0
SUMMARY:Lonestar Chapter Awards Ceremony
UID:f008fe23-c150-4484-8162-c9504516010f
END:VEVENT
END:VCALENDAR
