BEGIN:VCALENDAR
PRODID:-//github.com/rianjs/ical.net//NONSGML ical.net 4.0//EN
VERSION:2.0
BEGIN:VEVENT
DESCRIPTION:Details:\nhttps://bbyo.org/bbyo-near-you/regions/nassau-suffol
 k-region/new-member-overnight-2024
DTEND;VALUE=DATE:20240517
DTSTAMP:20260423T052524Z
DTSTART:20240516T160000
LOCATION:
SEQUENCE:0
SUMMARY:New Member Overnight 2024
UID:68c5d799-473e-4428-b026-1028733d7022
END:VEVENT
END:VCALENDAR
