BEGIN:VCALENDAR
PRODID:-//github.com/rianjs/ical.net//NONSGML ical.net 4.0//EN
VERSION:2.0
BEGIN:VEVENT
DESCRIPTION:Details:\nhttps://bbyo.org/bbyo-near-you/regions/mountain-regi
 on/mother-daughter-mind\,-body-attitude-event
DTEND:20161205T210000
DTSTAMP:20260422T101120Z
DTSTART:20161205T183000
LOCATION:Valley of the Sun JCC
SEQUENCE:0
SUMMARY:Mother-Daughter Mind\, Body Attitude Event
UID:bf0ed609-8436-40f8-81c3-0ec33a3ac436
END:VEVENT
END:VCALENDAR
