BEGIN:VCALENDAR
PRODID:-//github.com/rianjs/ical.net//NONSGML ical.net 4.0//EN
VERSION:2.0
BEGIN:VEVENT
DESCRIPTION:Details:\nhttps://bbyo.org/bbyo-near-you/regions/pacific-weste
 rn-region/pwr-shabbat-a-story-of-strength
DTEND:20240607T203000
DTSTAMP:20260420T230428Z
DTSTART:20240607T180000
LOCATION:Valley Beth Shalom Synagogue
SEQUENCE:0
SUMMARY:PWR Shabbat - A Story of Strength
UID:a34cdc49-3f39-4b9a-9c9a-ca7ab346e132
END:VEVENT
END:VCALENDAR
