BEGIN:VCALENDAR
PRODID:-//github.com/rianjs/ical.net//NONSGML ical.net 4.0//EN
VERSION:2.0
BEGIN:VEVENT
DESCRIPTION:Details:\nhttps://bbyo.org/bbyo-near-you/regions/lonestar-regi
 on/austin-fall-2022-lti
DTEND:20220828T235900
DTSTAMP:20260423T224029Z
DTSTART:20220828T120000
LOCATION:Separate by Chapter!
SEQUENCE:0
SUMMARY:Austin Fall 2022 LTI
UID:8c01b330-8459-4011-8478-8a844593a0b4
END:VEVENT
END:VCALENDAR
