BEGIN:VCALENDAR
PRODID:-//github.com/rianjs/ical.net//NONSGML ical.net 4.0//EN
VERSION:2.0
BEGIN:VEVENT
DESCRIPTION:Details:\nhttps://bbyo.org/bbyo-near-you/regions/kentucky-indi
 ana-ohio-region/kio-fall-chapter-execs-(pc-4000)\n\nSummary:\nOpen to Cur
 rent Chapter and Regional Board Members\n\nKIO Fall Chapter Execs is a si
 ngle day leadership development program open to all regional and chapter 
 officers. Attendance is expected!
DTEND:20160918T180000
DTSTAMP:20260423T200924Z
DTSTART:20160918T100000
LOCATION:JCC of Greater Dayton
SEQUENCE:0
SUMMARY:KIO Fall Chapter Execs (PC 4000)
UID:ff5dee76-a98c-4bdd-b171-9e1763104fcd
END:VEVENT
END:VCALENDAR
