BEGIN:VCALENDAR
PRODID:-//github.com/rianjs/ical.net//NONSGML ical.net 4.0//EN
VERSION:2.0
BEGIN:VEVENT
DESCRIPTION:Details:\nhttps://bbyo.org/bbyo-near-you/regions/kentucky-indi
 ana-ohio-region/27th-annual-drew-corson-basketball-tournament-week
DTEND:20230122T160000
DTSTAMP:20260421T185518Z
DTSTART:20230120T160000
LOCATION:Louisville Kentucky
SEQUENCE:0
SUMMARY:27th Annual Drew Corson Basketball Tournament Weekend
UID:4bebf06e-8d81-4d2a-b615-c38c48a5ef7a
END:VEVENT
END:VCALENDAR
