BEGIN:VCALENDAR
PRODID:-//github.com/rianjs/ical.net//NONSGML ical.net 4.0//EN
VERSION:2.0
BEGIN:VEVENT
DESCRIPTION:Details:\nhttps://bbyo.org/bbyo-near-you/regions/delta-region/
 bus-for-crosstown-superbowl-party\n\nSummary:\nThis is the BUS sign up fo
 r the Super Bowl Middle School Kickoff party!
DTEND:20190203T203000
DTSTAMP:20260420T180515Z
DTSTART:20190203T170000
LOCATION:Memphis Tennessee
SEQUENCE:0
SUMMARY:BUS for CROSSTOWN SUPERBOWL PARTY
UID:c250be30-4186-43c8-bb32-5253ae83f94f
END:VEVENT
END:VCALENDAR
