BEGIN:VCALENDAR
PRODID:-//github.com/rianjs/ical.net//NONSGML ical.net 4.0//EN
VERSION:2.0
BEGIN:VEVENT
DESCRIPTION:Details:\nhttps://bbyo.org/bbyo-near-you/regions/south-jersey-
 region/parent-summer-info-session
DTEND:20221102T203000
DTSTAMP:20260425T235104Z
DTSTART:20221102T190000
LOCATION:Zoom
SEQUENCE:0
SUMMARY:Parent Summer Info Session
UID:63cbd8d9-5e08-4e73-a5e9-0c80fbe07ae3
END:VEVENT
END:VCALENDAR
