BEGIN:VCALENDAR
PRODID:-//github.com/rianjs/ical.net//NONSGML ical.net 4.0//EN
VERSION:2.0
BEGIN:VEVENT
DESCRIPTION:Details:\nhttps://bbyo.org/bbyo-near-you/regions/evergreen-reg
 ion/portland-bbyo-chapter-board-executive-training
DTEND:20240128T140000
DTSTAMP:20260421T043144Z
DTSTART:20240128T110000
LOCATION:Portland Oregon
SEQUENCE:0
SUMMARY:Portland BBYO Chapter Board Executive Training
UID:3d396f76-9be4-4b1e-b83e-f9b8d454d2bf
END:VEVENT
END:VCALENDAR
