BEGIN:VCALENDAR
PRODID:-//github.com/rianjs/ical.net//NONSGML ical.net 4.0//EN
VERSION:2.0
BEGIN:VEVENT
DESCRIPTION:Details:\nhttps://bbyo.org/bbyo-near-you/regions/north-texas-o
 klahoma-region/nto-ic-launch-night-(1)
DTEND:20211019T193000
DTSTAMP:20260425T235251Z
DTSTART:20211019T184500
LOCATION:Zoom
SEQUENCE:0
SUMMARY:NTO IC Launch Night
UID:7a2902c8-9c70-49e8-8704-e3a815ac8c6e
END:VEVENT
END:VCALENDAR
