BEGIN:VCALENDAR
PRODID:-//github.com/rianjs/ical.net//NONSGML ical.net 4.0//EN
VERSION:2.0
BEGIN:VEVENT
DESCRIPTION:Details:\nhttps://bbyo.org/bbyo-near-you/regions/delta-region/
 memphis-winter-convention-transportation\n\nSummary:\nThis is the event t
 o sign up for the Memphis bus to Winter Convention 2019!
DTEND:20190121T170000
DTSTAMP:20260425T182827Z
DTSTART:20190118T140000
LOCATION:Memphis Tennessee
SEQUENCE:0
SUMMARY:MEMPHIS Winter Convention Transportation
UID:caac92a4-2735-40b9-ad88-dbc2bdcc8dbb
END:VEVENT
END:VCALENDAR
